BEGIN:VCALENDAR
VERSION:2.0
PRODID:-//147.100.242.15//NONSGML kigkonsult.se iCalcreator 2.41.92//
CALSCALE:GREGORIAN
UID:61633936-3132-4731-b062-343866643462
X-WR-TIMEZONE:Europe/Paris
BEGIN:VTIMEZONE
TZID:Europe/Paris
TZUNTIL:20231029T010000Z
BEGIN:STANDARD
TZNAME:CET
DTSTART:20211031T030000
TZOFFSETFROM:+0200
TZOFFSETTO:+0100
RDATE:20221030T030000
END:STANDARD
BEGIN:DAYLIGHT
TZNAME:CEST
DTSTART:20210328T020000
TZOFFSETFROM:+0100
TZOFFSETTO:+0200
RDATE:20220327T020000
RDATE:20230326T020000
END:DAYLIGHT
END:VTIMEZONE
BEGIN:VEVENT
UID:34623136-3536-4935-b939-656638343239
DTSTAMP:20260424T091821Z
DTSTART:20220315T060000Z
DTEND:20220317T210000Z
LOCATION:Rennes
SUMMARY:Advances in the analysis of riverine acoustic camera data
URL:https://anacadir.workshop.inrae.fr
END:VEVENT
END:VCALENDAR
